BEGIN:VCALENDAR
VERSION:2.0
PRODID:-//5.44.111.183//NONSGML kigkonsult.se iCalcreator 2.20//
CALSCALE:GREGORIAN
METHOD:PUBLISH
X-WR-TIMEZONE:Europe/Berlin
BEGIN:VEVENT
UID:event1776@Courage  e.V. Neu Wulmstorf
DTSTAMP:20260421T155554Z
CATEGORIES:Eltern-Kind-Treffen
DESCRIPTION:Neugeborenentreff für Babys und Mütter\nKategorie: Eltern-Kind-
 Treffen\nICS-Link: https://www.courage-neu-wulmstorf.de/index.php?option=c
 om_jem&view=event&id=1776:neugeborenentreff\n
DTSTART;TZID=Europe/Berlin:20260424T100000
DTEND;TZID=Europe/Berlin:20260424T120000
SUMMARY:Neugeborenentreff für Babys und Mütter
URL:https://www.courage-neu-wulmstorf.de/index.php?option=com_jem&view=even
 t&id=1776:neugeborenentreff
END:VEVENT
END:VCALENDAR